BEGIN:VCALENDAR
VERSION:2.0
PRODID:-//California Water Institute (CWI) - ECPv6.15.17//NONSGML v1.0//EN
CALSCALE:GREGORIAN
METHOD:PUBLISH
X-ORIGINAL-URL:https://www.californiawater.org
X-WR-CALDESC:Events for California Water Institute (CWI)
REFRESH-INTERVAL;VALUE=DURATION:PT1H
X-Robots-Tag:noindex
X-PUBLISHED-TTL:PT1H
BEGIN:VTIMEZONE
TZID:America/Los_Angeles
BEGIN:DAYLIGHT
TZOFFSETFROM:-0800
TZOFFSETTO:-0700
TZNAME:PDT
DTSTART:20240310T100000
END:DAYLIGHT
BEGIN:STANDARD
TZOFFSETFROM:-0700
TZOFFSETTO:-0800
TZNAME:PST
DTSTART:20241103T090000
END:STANDARD
BEGIN:DAYLIGHT
TZOFFSETFROM:-0800
TZOFFSETTO:-0700
TZNAME:PDT
DTSTART:20250309T100000
END:DAYLIGHT
BEGIN:STANDARD
TZOFFSETFROM:-0700
TZOFFSETTO:-0800
TZNAME:PST
DTSTART:20251102T090000
END:STANDARD
BEGIN:DAYLIGHT
TZOFFSETFROM:-0800
TZOFFSETTO:-0700
TZNAME:PDT
DTSTART:20260308T100000
END:DAYLIGHT
BEGIN:STANDARD
TZOFFSETFROM:-0700
TZOFFSETTO:-0800
TZNAME:PST
DTSTART:20261101T090000
END:STANDARD
END:VTIMEZONE
BEGIN:VEVENT
DTSTART;TZID=America/Los_Angeles:20250917T120000
DTEND;TZID=America/Los_Angeles:20251112T125000
DTSTAMP:20260420T043217
CREATED:20250603T185442Z
LAST-MODIFIED:20250603T190329Z
UID:1350-1758110400-1762951800@www.californiawater.org
SUMMARY:CWI Water Book Club - Virtual
DESCRIPTION:Science Be Dammed: How Ignoring Inconvenient Science Drained the Colorado River by Eric Kuhn and John Fleck\n\n\n\nWhere water meets literature—join us as we uncover the narratives shaping our water future. \n\n\n\nDate: Wednesdays in September- September 17th to November 12th over ZoomTime: 12-12:50pm \n\n\n\n\nRegister\n\n\n\nAmazon
URL:https://www.californiawater.org/event/cwi-water-book-club-virtual/
LOCATION:California
ATTACH;FMTTYPE=image/png:https://www.californiawater.org/wp-content/uploads/Email-flyer-3.png
END:VEVENT
BEGIN:VEVENT
DTSTART;TZID=America/Los_Angeles:20251024T163000
DTEND;TZID=America/Los_Angeles:20251024T183000
DTSTAMP:20260420T043217
CREATED:20250925T154808Z
LAST-MODIFIED:20250925T154810Z
UID:1459-1761323400-1761330600@www.californiawater.org
SUMMARY:CWI's 25th Anniversary Celebration
DESCRIPTION:Sponsorship OpportunitiesLegacy Sponsor – $1\,000Public recognition during the 25th Anniversary Celebration event.Company name and logo in digital program and invitations.Featured sponsor spotlight on CWI social media (dedicated post).Logo & name prominently displayed in printed program.Featured mention in CWI newsletter & websiteInclusion in press releases and media outreach (where applicable). \n\n\n\nSustaining Sponsor – $500Mention in CWI social media sponsor spotlight (grouped post).Company name and logo in printed program.Mention in CWI newsletter & websiteRecognition from the podium by the event MC. \n\n\n\nCommunity Sponsor – $250Inclusion in CWI social media sponsor thank-you post (group).Name listed in printed program.Mention in CWI newsletter & website. \n\n\n\nFor sponsorship opportunities\, please contact Laura Ramos at lramos@mail.fresnostate.edu
URL:https://www.californiawater.org/event/cwis-25th-anniversary-celebration/
LOCATION:California
ATTACH;FMTTYPE=image/png:https://www.californiawater.org/wp-content/uploads/Screenshot-2025-09-25-083845.png
END:VEVENT
END:VCALENDAR