BEGIN:VCALENDAR
VERSION:2.0
PRODID:-//California Water Institute (CWI) - ECPv6.15.17//NONSGML v1.0//EN
CALSCALE:GREGORIAN
METHOD:PUBLISH
X-WR-CALNAME:California Water Institute (CWI)
X-ORIGINAL-URL:https://www.californiawater.org
X-WR-CALDESC:Events for California Water Institute (CWI)
REFRESH-INTERVAL;VALUE=DURATION:PT1H
X-Robots-Tag:noindex
X-PUBLISHED-TTL:PT1H
BEGIN:VTIMEZONE
TZID:America/Los_Angeles
BEGIN:DAYLIGHT
TZOFFSETFROM:-0800
TZOFFSETTO:-0700
TZNAME:PDT
DTSTART:20220313T100000
END:DAYLIGHT
BEGIN:STANDARD
TZOFFSETFROM:-0700
TZOFFSETTO:-0800
TZNAME:PST
DTSTART:20221106T090000
END:STANDARD
BEGIN:DAYLIGHT
TZOFFSETFROM:-0800
TZOFFSETTO:-0700
TZNAME:PDT
DTSTART:20230312T100000
END:DAYLIGHT
BEGIN:STANDARD
TZOFFSETFROM:-0700
TZOFFSETTO:-0800
TZNAME:PST
DTSTART:20231105T090000
END:STANDARD
BEGIN:DAYLIGHT
TZOFFSETFROM:-0800
TZOFFSETTO:-0700
TZNAME:PDT
DTSTART:20240310T100000
END:DAYLIGHT
BEGIN:STANDARD
TZOFFSETFROM:-0700
TZOFFSETTO:-0800
TZNAME:PST
DTSTART:20241103T090000
END:STANDARD
END:VTIMEZONE
BEGIN:VEVENT
DTSTART;TZID=America/Los_Angeles:20230524T090000
DTEND;TZID=America/Los_Angeles:20230524T120000
DTSTAMP:20260424T011836
CREATED:20240101T121823Z
LAST-MODIFIED:20240101T125220Z
UID:593-1684918800-1684929600@www.californiawater.org
SUMMARY:Water Awareness Month: Water Bootcamp En Español
DESCRIPTION:Speaker Laura Ramos from the California Water Institute at Fresno State will cover the following topics in Spanish: \n\n\n\n\n9:00 a.m. PST – En Español – Hydrology\, Watersheds\, Sacramento-San Joaquin Delta\n\n\n\n9:30 a.m. PST – En Español – Groundwater: Overview\, Regulations\, & Recharge\n\n\n\n10:05 a.m. PST – En Español – Surface Water Distribution\, Water Allocation\, & Surface Water Rights\n\n\n\n10:35 a.m. PST – En Español – Stormwater\n\n\n\n\nPara registrarse\, cree o inicie sesión en su cuenta de con World Ag Expo. Una vez que se haya completado\, haga clic en elbotón naranja “agregar” en cada seminario de Water Bootcamp que leinterese para agregarlo a su Show Planner.
URL:https://www.californiawater.org/event/water-awareness-month-water-bootcamp-en-espanol/
CATEGORIES:Online
END:VEVENT
END:VCALENDAR